BEGIN:VCALENDAR
VERSION:2.0
PRODID:-//eventon.com NONSGML v1.0//EN
BEGIN:VEVENT
UID:69e734bd87d58
DTSTAMP:20260421T032637
DTSTART:20260227T190000Z
DTEND:20260228T010000Z
LOCATION:
SUMMARY:Hot Tub & Swim Spa Blowout Expo
DESCRIPTION: Hot Tub & Swim Spa Blowout Expo This Weekend\,  FEBRUARY 27 - MARCH 1\,  2026 Laborde Earles Coliseum: The Entertainment Center Hours: Fri 2p-8p Sat 10a-8p Sun 10a-5p Show Admission Is Free Save Big on a huge selection of Hot Tubs and Swim Spas from major brands!  Over 40 Hot[..]
END:VEVENT
END:VCALENDAR