BEGIN:VCALENDAR
VERSION:2.0
PRODID:-//eventon.com NONSGML v1.0//EN
BEGIN:VEVENT
UID:69e7a502cb234
DTSTAMP:20260421T112538
DTSTART:20260416T230000Z
DTEND:20260417T030000Z
LOCATION:
SUMMARY:Cenla Cattle Baron’s Ball
DESCRIPTION: Please join us and help give cancer the boot! The American Cancer Society’s 2026 Cenla Cattle Baron’s Ball promises to be a toe-tapping\,  knee-slapping good time as you give back to our community and the American Cancer Society. Held at the Laborde Earles Coliseum\,  this one-of-a-kind evening features great food[..]
END:VEVENT
END:VCALENDAR