BEGIN:VCALENDAR
VERSION:2.0
PRODID:-//eventon.com NONSGML v1.0//EN
BEGIN:VEVENT
UID:69eba105a7017
DTSTAMP:20260424T115741
DTSTART:20250802T233000Z
DTEND:20250803T045000Z
LOCATION:
SUMMARY:Bulls\,  Bands\,  and Barrels with Treaty Oak Revival & Kolby Cooper
DESCRIPTION: Your 2025 Bulls\,  Bands\,  & Barrels lineup is here! Treaty Oak Revival will headline Bulls\,  Bands\,  & Barrels at Rapides Parish Coliseum on Saturday 8/2 with special guest\,  Kolby Cooper after an adrenaline packed night of bull riding and barrel racing.  THIS AIN’T YOUR GRANDPAPPY’S RODEO!
END:VEVENT
END:VCALENDAR